BEGIN:VCALENDAR
VERSION:2.0
PRODID:-//Food Addicts Anonymous - ECPv6.15.20//NONSGML v1.0//EN
CALSCALE:GREGORIAN
METHOD:PUBLISH
X-ORIGINAL-URL:https://faacanhelp.org
X-WR-CALDESC:Events for Food Addicts Anonymous
REFRESH-INTERVAL;VALUE=DURATION:PT1H
X-Robots-Tag:noindex
X-PUBLISHED-TTL:PT1H
BEGIN:VTIMEZONE
TZID:America/New_York
BEGIN:DAYLIGHT
TZOFFSETFROM:-0500
TZOFFSETTO:-0400
TZNAME:EDT
DTSTART:20240310T070000
END:DAYLIGHT
BEGIN:STANDARD
TZOFFSETFROM:-0400
TZOFFSETTO:-0500
TZNAME:EST
DTSTART:20241103T060000
END:STANDARD
BEGIN:DAYLIGHT
TZOFFSETFROM:-0500
TZOFFSETTO:-0400
TZNAME:EDT
DTSTART:20250309T070000
END:DAYLIGHT
BEGIN:STANDARD
TZOFFSETFROM:-0400
TZOFFSETTO:-0500
TZNAME:EST
DTSTART:20251102T060000
END:STANDARD
BEGIN:DAYLIGHT
TZOFFSETFROM:-0500
TZOFFSETTO:-0400
TZNAME:EDT
DTSTART:20260308T070000
END:DAYLIGHT
BEGIN:STANDARD
TZOFFSETFROM:-0400
TZOFFSETTO:-0500
TZNAME:EST
DTSTART:20261101T060000
END:STANDARD
END:VTIMEZONE
BEGIN:VEVENT
DTSTART;TZID=America/New_York:20250308T120000
DTEND;TZID=America/New_York:20250308T133000
DTSTAMP:20260425T110420
CREATED:20250217T130017Z
LAST-MODIFIED:20250217T131446Z
UID:4760-1741435200-1741440600@faacanhelp.org
SUMMARY:Principles In Action
DESCRIPTION:PRINCIPLES IN ACTION EVENT FLYER (PDF)
URL:https://faacanhelp.org/event/principles-in-action/
ATTACH;FMTTYPE=image/webp:https://faacanhelp.org/wp-content/uploads/2025/02/pia-flyer.webp
END:VEVENT
BEGIN:VEVENT
DTSTART;TZID=America/New_York:20250329T110000
DTEND;TZID=America/New_York:20250329T140000
DTSTAMP:20260425T110420
CREATED:20250311T132219Z
LAST-MODIFIED:20250311T134745Z
UID:4901-1743246000-1743256800@faacanhelp.org
SUMMARY:FAA Hybrid Speaker Meeting
DESCRIPTION:SPEAKER: Dorene L. ~ 37 Years Abstinent\nCLICK HERE TO SIGN UP\nClick this link to Contact Erwin from FAA – (Organizer of this event) \nVIEW/DOWNLOAD FULL SIZE FLYER FOR THIS EVENT
URL:https://faacanhelp.org/event/faa-hybrid-speaker-meeting/
LOCATION:FAA Hybrid Meeting
ATTACH;FMTTYPE=image/png:https://faacanhelp.org/wp-content/uploads/2025/03/faa-hybrid.png
END:VEVENT
END:VCALENDAR