BEGIN:VCALENDAR
VERSION:2.0
PRODID:-//Food Addicts Anonymous - ECPv6.15.20//NONSGML v1.0//EN
CALSCALE:GREGORIAN
METHOD:PUBLISH
X-ORIGINAL-URL:https://faacanhelp.org
X-WR-CALDESC:Events for Food Addicts Anonymous
REFRESH-INTERVAL;VALUE=DURATION:PT1H
X-Robots-Tag:noindex
X-PUBLISHED-TTL:PT1H
BEGIN:VTIMEZONE
TZID:America/New_York
BEGIN:DAYLIGHT
TZOFFSETFROM:-0500
TZOFFSETTO:-0400
TZNAME:EDT
DTSTART:20240310T070000
END:DAYLIGHT
BEGIN:STANDARD
TZOFFSETFROM:-0400
TZOFFSETTO:-0500
TZNAME:EST
DTSTART:20241103T060000
END:STANDARD
BEGIN:DAYLIGHT
TZOFFSETFROM:-0500
TZOFFSETTO:-0400
TZNAME:EDT
DTSTART:20250309T070000
END:DAYLIGHT
BEGIN:STANDARD
TZOFFSETFROM:-0400
TZOFFSETTO:-0500
TZNAME:EST
DTSTART:20251102T060000
END:STANDARD
BEGIN:DAYLIGHT
TZOFFSETFROM:-0500
TZOFFSETTO:-0400
TZNAME:EDT
DTSTART:20260308T070000
END:DAYLIGHT
BEGIN:STANDARD
TZOFFSETFROM:-0400
TZOFFSETTO:-0500
TZNAME:EST
DTSTART:20261101T060000
END:STANDARD
END:VTIMEZONE
BEGIN:VEVENT
DTSTART;TZID=America/New_York:20250118T110000
DTEND;TZID=America/New_York:20250118T140000
DTSTAMP:20260425T143547
CREATED:20241218T150406Z
LAST-MODIFIED:20250104T003524Z
UID:2972-1737198000-1737208800@faacanhelp.org
SUMMARY:FAA Pot Luck Lunch • Hybrid Phone Meeting
DESCRIPTION:CLICK HERE TO VIEW FULL SIZE FLYER WITH DETAILS
URL:https://faacanhelp.org/event/pot-luck-lunch-by-faa-cleveland-ohio/
LOCATION:FAA of Cleveland\, OH
ATTACH;FMTTYPE=image/webp:https://faacanhelp.org/wp-content/uploads/2024/12/potluck-lunch-e1735917998901.webp
END:VEVENT
END:VCALENDAR